BEGIN:VCALENDAR
VERSION:2.0
PRODID:-//eventon.com NONSGML v1.0//EN
BEGIN:VEVENT
UID:69e609bc855d8
DTSTAMP:20260420T121052
DTSTART:20210712T110000Z
DTEND:20210716T105900Z
TZID:Pacific/Midway
LOCATION:
SUMMARY:Formação de Snorkeling e apneia
DESCRIPTION: Formação de Snorkeling e apneia
URL:https://hbg.pt/Eventos/formacao-de-snorkeling-e-apneia/
END:VEVENT
END:VCALENDAR