BEGIN:VCALENDAR
VERSION:2.0
PRODID:-//eventon.com NONSGML v1.0//EN
BEGIN:VEVENT
UID:69e60a0a3a8c0
DTSTAMP:20260420T121210
DTSTART:20210705T170000Z
DTEND:20210708T193000Z
TZID:Etc/Greenwich
LOCATION:
SUMMARY:Entrega de Diplomas - Galeria De Honra - Ano Letivo 2019-2020 | 2020-2021
DESCRIPTION: Entrega de Diplomas - Galeria De Honra - Ano Letivo 2019-2020 | 2020-2021
URL:https://hbg.pt/Eventos/entrega-de-diplomas-galeria-de-honra-ano-letivo-2019-2020-2020-2021/
END:VEVENT
END:VCALENDAR