BEGIN:VCALENDAR
VERSION:2.0
PRODID:-//eventon.com NONSGML v1.0//EN
BEGIN:VEVENT
UID:69e5f600f2aa9
DTSTAMP:20260420T104640
DTSTART:20210907T110000Z
DTEND:20210908T105900Z
TZID:Pacific/Midway
LOCATION:Piso 1 - Edifício Escola Dr. Horácio Bento de Gouveia 
SUMMARY:Publicação das listas de turmas
DESCRIPTION: Publicação das listas de turmas
URL:https://hbg.pt/Eventos/publicacao-das-listas-de-turmas-e-dos-horarios/
END:VEVENT
END:VCALENDAR