BEGIN:VCALENDAR
VERSION:2.0
PRODID:-//eventon.com NONSGML v1.0//EN
BEGIN:VEVENT
UID:69e5e2ffe51d0
DTSTAMP:20260420T092535
DTSTART:20210909T110000Z
DTEND:20210910T105900Z
TZID:Pacific/Midway
LOCATION:
SUMMARY:Publicação dos horários de todos os anos e receção aos novos alunos do 5º ano
DESCRIPTION: Consulte aqui o horário da receção aos novos alunos.
URL:https://hbg.pt/Eventos/rececao-aos-novos-alunos-do-5o-ano/
END:VEVENT
END:VCALENDAR