BEGIN:VCALENDAR
VERSION:2.0
PRODID:-//eventon.com NONSGML v1.0//EN
BEGIN:VEVENT
UID:69e5f7b48ee6c
DTSTAMP:20260420T105356
DTSTART:20210910T190000Z
DTEND:20210911T054500Z
TZID:Pacific/Midway
LOCATION:
SUMMARY:Início das atividades letivas para todos os anos
DESCRIPTION: Início das atividades letivas para todos os anos
URL:https://hbg.pt/Eventos/inicio-das-atividades-letivas-para-todos-os-anos/
END:VEVENT
END:VCALENDAR