BEGIN:VCALENDAR
VERSION:2.0
PRODID:-//eventon.com NONSGML v1.0//EN
BEGIN:VEVENT
UID:69e6086eab4e0
DTSTAMP:20260420T120518
DTSTART:20211015T090000Z
DTEND:20211015T130000Z
TZID:Etc/Greenwich
LOCATION:Escola HBG Estrada da liberdade\,  1\,  Funchal
SUMMARY:2ª Amostra do Pão - Dia Mundial do Pão - 15 de outubro
DESCRIPTION: Iniciativa “Tradições e Sustentabilidade” &nbsp; Evento: 2ªAmostra do pão Dia Mundial do Pão &#8211; 15 de outubro 2021 Piso 2 – 9h até às 13 horas Dia Mundial do Pão inserido no Dia da Alimentação\,  de 16 de outubro\,  sábado. Do ponto de vista alimentar e nutricional\,  o pão possui[..]
URL:https://hbg.pt/Eventos/2a-amostra-do-pao-dia-mundial-do-pao-15-de-outubro/
END:VEVENT
END:VCALENDAR