BEGIN:VCALENDAR
VERSION:2.0
PRODID:-//eventon.com NONSGML v1.0//EN
BEGIN:VEVENT
UID:69e5e372843ed
DTSTAMP:20260420T092730
DTSTART:20211116T110000Z
DTEND:20211120T105900Z
TZID:Pacific/Midway
LOCATION:Piso 1 - Edifício Escola Dr. Horácio Bento de Gouveia 
SUMMARY:Comemoração do Dia Nacional do Mar
DESCRIPTION: A celebração do Dia Nacional do Mar teve origem na &#8220;Convenção das Nações Unidas sobre o Direito do Mar&#8221;\,  que entrou em vigor a 16 de novembro de 1994.&nbsp;&nbsp; A nossa escola irá assinalar a data\,  com duas exposições itinerante do Instituto das Florestas e Conservação da Natureza (IFCN). Será[..]
URL:https://hbg.pt/Eventos/comemoracao-do-dia-nacional-do-mar/
END:VEVENT
END:VCALENDAR