BEGIN:VCALENDAR
VERSION:2.0
PRODID:-//eventon.com NONSGML v1.0//EN
BEGIN:VEVENT
UID:69e5f670369ce
DTSTAMP:20260420T104832
DTSTART:20211105T110000Z
DTEND:20211106T105900Z
TZID:Pacific/Midway
LOCATION:
SUMMARY:Dia Mundial de Consciencialização sobre Tsunamis
DESCRIPTION: &nbsp; A Escola Azul partilha com a comunidade educativa\,  um folheto preparado pelo Centro Europeu de Riscos Urbanos que explica tudo sobre tsunamis: o que são\,  que risco corremos em Portugal\,  e o que fazer antes\,  durante e depois de um evento deste tipo. Este dia foi implementado&nbsp;através da Resolução[..]
URL:https://hbg.pt/Eventos/dia-mundial-de-consciencializacao-sobre-tsunamis/
END:VEVENT
END:VCALENDAR