BEGIN:VCALENDAR
VERSION:2.0
PRODID:-//eventon.com NONSGML v1.0//EN
BEGIN:VEVENT
UID:69e5e3730a771
DTSTAMP:20260420T092731
DTSTART:20211116T110000Z
DTEND:20211116T123000Z
TZID:Europe/Lisbon
LOCATION:Online 
SUMMARY:Visita virtual ao Jardim Zoológico – Espécies Marinhas do Zoo
DESCRIPTION: O Dia Nacional do Mar (16 de novembro) está a chegar e a Escola Azul associa-se ao Jardim Zoológico para uma visita virtual centrada nas espécies marinhas do Zoo. A sessão será conduzida por um biólogo do Jardim Zoológico e vai ter golfinhos\,  pinguins e pelicanos como convidados especiais. &nbsp;Todas[..]
URL:https://hbg.pt/Eventos/visita-virtual-ao-jardim-zoologico-especies-marinhas-do-zoo/
END:VEVENT
END:VCALENDAR