BEGIN:VCALENDAR
VERSION:2.0
PRODID:-//eventon.com NONSGML v1.0//EN
BEGIN:VEVENT
UID:69e609cbe0384
DTSTAMP:20260420T121107
DTSTART:20211126T010000Z
DTEND:20211127T040000Z
TZID:Pacific/Midway
LOCATION:Centro de Química da Madeira Centro de Química da Madeira Campus Universitário da Penteada 9020-105 Funchal  Telef.: 291 705150  E-mail: qdiv@uma.pt
SUMMARY:Química Divertida 2021 - visita de estudo
DESCRIPTION: Realiza-se nos próximos dias 25 e 26 de novembro a 26ªedição da &#8220;Química é Divertida&#8221;\,  dedicada ao tema &#8220;Um mundo de cores&#8221;. As atividades irão decorrer nos laboratórios do Centro de Química da Madeira da UMa\,  localizado no Madeira Tecnopolo. Anualmente recebem visitas organizadas pelas escolas que envolvam alunos de[..]
URL:https://hbg.pt/Eventos/quimica-divertida-2021-visita-de-estudo/
END:VEVENT
END:VCALENDAR