BEGIN:VCALENDAR
VERSION:2.0
PRODID:-//eventon.com NONSGML v1.0//EN
BEGIN:VEVENT
UID:69e6094571ba8
DTSTAMP:20260420T120853
DTSTART:20211129T204500Z
DTEND:20211129T221500Z
TZID:Pacific/Midway
LOCATION:Auditório - HBG 
SUMMARY:Projeto Aprender com o Cinema (1ª Sessão)
DESCRIPTION: No dia 29 de novembro de 2021 haverá duas sessões de cinema\,  no Auditório da HBG com o filme “A História de uma Abelha”\,  subordinado ao tema &nbsp;&#8220;Preservação Ambiental&#8221;.
URL:https://hbg.pt/Eventos/projeto-aprender-com-o-cinema-2/
END:VEVENT
END:VCALENDAR