BEGIN:VCALENDAR
VERSION:2.0
PRODID:-//eventon.com NONSGML v1.0//EN
BEGIN:VEVENT
UID:69e60903d336f
DTSTAMP:20260420T120747
DTSTART:20211130T020000Z
DTEND:20211130T033000Z
TZID:Pacific/Midway
LOCATION:Auditório - HBG 
SUMMARY:Projeto Aprender com o Cinema (2ª Sessão)
DESCRIPTION: No dia 29 de novembro de 2021 haverá duas sessões de cinema\,  no Auditório da HBG com o filme “A História de uma Abelha”\,  subordinado ao tema &nbsp;&#8220;Preservação Ambiental&#8221;.
URL:https://hbg.pt/Eventos/projeto-aprender-com-o-cinema/
END:VEVENT
END:VCALENDAR