BEGIN:VCALENDAR
VERSION:2.0
PRODID:-//eventon.com NONSGML v1.0//EN
BEGIN:VEVENT
UID:69e61807ba1d8
DTSTAMP:20260420T131151
DTSTART:20211129T231500Z
DTEND:20211130T010000Z
TZID:Pacific/Midway
LOCATION:Instalações Desportivas HBG 
SUMMARY:Prova dos Nove 9ºAno
DESCRIPTION: &nbsp;&nbsp;&nbsp;&nbsp; Realiza-se no dia 29 de novembro a Prova dos Nove para as turmas do 9ºano de escolaridade\,  entre as 12h15 – 14h00\,  nas instalações desportivas da escola. &nbsp;&nbsp; &nbsp;&nbsp;A Prova dos Nove é uma competição composta por um conjunto de nove provas desportivas\,  disputada pelas diversas turmas da escola.
URL:https://hbg.pt/Eventos/prova-dos-nove-9oano/
END:VEVENT
END:VCALENDAR