BEGIN:VCALENDAR
VERSION:2.0
PRODID:-//eventon.com NONSGML v1.0//EN
BEGIN:VEVENT
UID:69e609bc8c487
DTSTAMP:20260420T121052
DTSTART:20211126T201500Z
DTEND:20211126T210000Z
TZID:Pacific/Midway
LOCATION:
SUMMARY:Palestra "Ser cientista é um pretexto para “disfrutar” de outros países"
DESCRIPTION: No próximo dia 26 de novembro\,  a turma 2 do 8.º ano\,  estará presente numa palestra dinamizada pela Doutora Joana Vasconcelos\,  docente da Faculdade de Ciências da Vida\,  Universidade da Madeira. Será apresentado o tema: &#8220;Ser cientista é um pretexto para “disfrutar” de outros países&#8221;. Esta atividade é uma atividade[..]
URL:https://hbg.pt/Eventos/palestra-ser-cientista-e-um-pretexto-para-disfrutar-de-outros-paises/
END:VEVENT
END:VCALENDAR