BEGIN:VCALENDAR
VERSION:2.0
PRODID:-//eventon.com NONSGML v1.0//EN
BEGIN:VEVENT
UID:69e5e30fb45a8
DTSTAMP:20260420T092551
DTSTART:20211209T150000Z
DTEND:20220114T180000Z
TZID:Etc/Greenwich
LOCATION:
SUMMARY:Instalação artística de Natal do grupo 240 - "Ofereço o meu tempo neste Natal"
DESCRIPTION: Entre os dias 9 de dezembro e 14 de janeiro\,  o grupo 240 apresentará no piso 1\,  uma instalação artística de Natal. Nas disciplinas de Ed. Visual e Ed. Tecnológica\,  esteve a ser desenvolvida uma atividade no âmbito do tema\,  &#8220;Ofereço o meu tempo neste Natal&#8221;. A intenção final deste[..]
URL:https://hbg.pt/Eventos/instalacao-artistica-de-natal-do-grupo-240-ofereco-o-meu-tempo-neste-natal/
END:VEVENT
END:VCALENDAR