BEGIN:VCALENDAR
VERSION:2.0
PRODID:-//eventon.com NONSGML v1.0//EN
BEGIN:VEVENT
UID:69e60bb370b73
DTSTAMP:20260420T121915
DTSTART:20211213T080000Z
DTEND:20211215T235900Z
TZID:Europe/Lisbon
LOCATION:
SUMMARY:Parceria Clube Viver a VIda - `"Óptica da Sé": Inscrição de alunos (as) HBG para a aquisição de óculos graduados (e lentes) de forma gratuita.
DESCRIPTION: No âmbito da parceria Clube Viver a Vida -&#8220;Óptica da Sé&#8221;\,  decorre até o dia 15 de dezembro a inscrição de alunos (as) para a aquisição de óculos graduados. A inscrição poderá ser realizada através do email&nbsp;clubeviveravida@gmail.com&nbsp;fornecendo os seguintes dados:&nbsp; Nome completo do aluno(a)\, &nbsp;Ano e Turma\, &nbsp;Data de nascimento\, &nbsp;número de cartão[..]
URL:https://hbg.pt/Eventos/parceria-clube-viver-a-vida-optica-da-se-inscricao-de-alunos-as-hbg-para-a-aquisicao-de-oculos-graduados-e-lentes-de-forma-gratuita/
END:VEVENT
END:VCALENDAR