BEGIN:VCALENDAR
VERSION:2.0
PRODID:-//eventon.com NONSGML v1.0//EN
BEGIN:VEVENT
UID:69e5e2f89ede4
DTSTAMP:20260420T092528
DTSTART:20220127T211500Z
DTEND:20220127T224500Z
TZID:Pacific/Midway
LOCATION:
SUMMARY:“Um dia na vida de um Investigador”
DESCRIPTION: Irá decorrer no dia 27 de janeiro uma conferência no âmbito de divulgação do Projeto I&D aprovado pela Fundação para a Ciência e a Tecnologia (FCT)\,  “Dinâmica de metacomunidades de espécies com ciclo de vida complexos em ecossistemas explorados”. Esta conferência será dinamizada pelos seguintes oradores: Dra. Joana Vasconcelos\,  Professora[..]
URL:https://hbg.pt/Eventos/um-dia-na-vida-de-um-investigador/
END:VEVENT
END:VCALENDAR