BEGIN:VCALENDAR
VERSION:2.0
PRODID:-//eventon.com NONSGML v1.0//EN
BEGIN:VEVENT
UID:69e5f646eb491
DTSTAMP:20260420T104750
DTSTART:20220212T020000Z
DTEND:20220212T040000Z
TZID:Pacific/Midway
LOCATION:Instalações Desportivas HBG 
SUMMARY:Taça Escolar de Prevenção Rodoviária
DESCRIPTION: Taça Escolar de Prevenção Rodoviária
URL:https://hbg.pt/Eventos/taca-escolar-de-prevencao-rodoviaria/
END:VEVENT
END:VCALENDAR