BEGIN:VCALENDAR
VERSION:2.0
PRODID:-//eventon.com NONSGML v1.0//EN
BEGIN:VEVENT
UID:69e5e375b6806
DTSTAMP:20260420T092733
DTSTART:20220209T231500Z
DTEND:20220210T010000Z
TZID:Pacific/Midway
LOCATION:Instalações Desportivas HBG 
SUMMARY:Prova dos Nove - 7º Ano
DESCRIPTION: Atividade Interna Desportiva/Desporto EscolarProva dos Nove – 7ºanoNo dia 9 de fevereiro (4ªfeira) acontece mais uma Prova dos Nove para as turmas de 7ºano. A atividade realiza-se nas instalações desportivas da escola entre as 12h15 – 14h00.
URL:https://hbg.pt/Eventos/prova-dos-nove-7o-anos/
END:VEVENT
END:VCALENDAR