BEGIN:VCALENDAR
VERSION:2.0
PRODID:-//eventon.com NONSGML v1.0//EN
BEGIN:VEVENT
UID:69e5f6ae47480
DTSTAMP:20260420T104934
DTSTART:20220216T150000Z
DTEND:20220216T160000Z
TZID:Etc/Greenwich
LOCATION:
SUMMARY:Olimpíadas da Biologia Júnior - 1ª eliminatória
DESCRIPTION: 1ª eliminatória das Olimpíadas da Biologia Júnior para alunos do 9º ano inscritos na atividade.
URL:https://hbg.pt/Eventos/olinpiadas-da-biologia-junior-1a-eliminatoria/
END:VEVENT
END:VCALENDAR