BEGIN:VCALENDAR
VERSION:2.0
PRODID:-//eventon.com NONSGML v1.0//EN
BEGIN:VEVENT
UID:69e5e2f970890
DTSTAMP:20260420T092529
DTSTART:20220224T091500Z
DTEND:20220224T111100Z
TZID:Etc/Greenwich
LOCATION:Auditório - HBG 
SUMMARY:Filme “MADAGÁSCAR 3”\,  subordinado ao tema “Trabalho em equipa”.
DESCRIPTION: Dando continuidade ao projeto “Aprender com o Cinema” iniciado no período transato\,  no próximo dia 24 de fevereiro de 2022 haverá duas sessões de cinema\,  desta feita com a projeção do filme “MADAGÁSCAR 3”\,  subordinado ao tema “Trabalho em equipa”. As referidas sessões terão lugar no Auditório da HBG\,  pelas[..]
URL:https://hbg.pt/Eventos/filme-madagascar-3-subordinado-ao-tema-trabalho-em-equipa/
END:VEVENT
END:VCALENDAR