BEGIN:VCALENDAR
VERSION:2.0
PRODID:-//eventon.com NONSGML v1.0//EN
BEGIN:VEVENT
UID:69e5f5d40f4a9
DTSTAMP:20260420T104556
DTSTART:20220310T040000Z
DTEND:20220310T050000Z
TZID:Pacific/Midway
LOCATION:
SUMMARY:Sensibilização Parental
DESCRIPTION: O grupo de Educação Especial vai promover uma ação de sensibilização parental\,  no dia 9 de março\,  pelas 17h\,  no auditório da escola Dr. Horácio Bento de Gouveia com o Grupo Dançando com a Diferença.Convidamos toda Comunidade Educativa a participar nesta atividade.
URL:https://hbg.pt/Eventos/sensibilizacao-parental/
END:VEVENT
END:VCALENDAR