BEGIN:VCALENDAR
VERSION:2.0
PRODID:-//eventon.com NONSGML v1.0//EN
BEGIN:VEVENT
UID:69e5e2ffb4f35
DTSTAMP:20260420T092535
DTSTART:20220317T231500Z
DTEND:20220318T010000Z
TZID:Pacific/Midway
LOCATION:
SUMMARY:Prova dos Nove – 6ºano
DESCRIPTION: No dia 17 de Março (5ªfeira) acontece mais uma Prova dos Nove para as turmas de6ºano. A atividade realiza-se nas instalações desportivas da escola entre as 12h15 –14h00.
URL:https://hbg.pt/Eventos/prova-dos-nove-6oano/
END:VEVENT
END:VCALENDAR