BEGIN:VCALENDAR
VERSION:2.0
PRODID:-//eventon.com NONSGML v1.0//EN
BEGIN:VEVENT
UID:69e5e5ebb2857
DTSTAMP:20260420T093803
DTSTART:20220316T110000Z
DTEND:20220317T105000Z
TZID:Pacific/Midway
LOCATION:
SUMMARY:Campanha de recolha de tampas de plástico - "Um mundo de tampas\,  pode ser o mundo de alguém"
DESCRIPTION: A recolha de &#8220;tampinhas&#8221; decorre nas salas de aulas dos vários pisos da Escola. Organização: Atividades Culturais\,  Eco-Escola e Clube Viver a Vida.
URL:https://hbg.pt/Eventos/campanha-de-recolha-de-tampas-de-plastico-um-mundo-de-tampas-pode-ser-o-mundo-de-alguem/
END:VEVENT
END:VCALENDAR