BEGIN:VCALENDAR
VERSION:2.0
PRODID:-//eventon.com NONSGML v1.0//EN
BEGIN:VEVENT
UID:69e60a8487198
DTSTAMP:20260420T121412
DTSTART:20220321T000000Z
DTEND:20220325T000000Z
TZID:Etc/Greenwich
LOCATION:
SUMMARY:UCRÂNIA | Um donativo por uma causa
DESCRIPTION: UCRÂNIA | Um donativo por uma causa Campanha de solidariedade. Local de entrega dos donativos em género: Cantina da Escola (Piso 1) Parceiros Internos: Atividades Culturais; Clube Viver a Vida; DT de 2.º Ciclo; Grupo 300 (“Solidariedade na ponta da língua”)
URL:https://hbg.pt/Eventos/ucrania-um-donativo-por-uma-causa/
END:VEVENT
END:VCALENDAR