BEGIN:VCALENDAR
VERSION:2.0
PRODID:-//eventon.com NONSGML v1.0//EN
BEGIN:VEVENT
UID:69e5e3279e809
DTSTAMP:20260420T092615
DTSTART:20220401T204500Z
DTEND:20220402T000000Z
TZID:Pacific/Midway
LOCATION:
SUMMARY:" Fotografia – A tecnologia do passado no presente”
DESCRIPTION: No próximo dia 1 de abril\,  as turmas 1 e 3 do 5ºano\,  estarão presente numa palestra dinamizada pelo fotógrafo e Professor\,  Marco Gonçalves\,  dos serviços Educativos do Museu de Fotografia da Madeira\,  Atelier Vicente&#8217;s. Será apresentado o tema: &#8221; Fotografia – A tecnologia do passado no presente”. &nbsp;Esta atividade[..]
URL:https://hbg.pt/Eventos/fotografia-a-tecnologia-do-passado-no-presente/
END:VEVENT
END:VCALENDAR