BEGIN:VCALENDAR
VERSION:2.0
PRODID:-//eventon.com NONSGML v1.0//EN
BEGIN:VEVENT
UID:69e608a323c5e
DTSTAMP:20260420T120611
DTSTART:20220419T000000Z
DTEND:20220422T000000Z
TZID:Etc/Greenwich
LOCATION:
SUMMARY:Semana da Saúde
DESCRIPTION: Na próxima semana\,  o grupo de Educação Física apresenta a toda a Comunidade Escolar a &#8220;Semana da Saúde&#8221;. Ao longo da semana&nbsp; haverá várias atividades para alunos\,  professores\,  funcionários e encarregados de educação.&nbsp;
URL:https://hbg.pt/Eventos/semana-da-saude/
END:VEVENT
END:VCALENDAR