BEGIN:VCALENDAR
VERSION:2.0
PRODID:-//eventon.com NONSGML v1.0//EN
BEGIN:VEVENT
UID:69e5f7afa1f92
DTSTAMP:20260420T105351
DTSTART:20220503T100000Z
DTEND:20220516T170000Z
TZID:Etc/Greenwich
LOCATION:
SUMMARY:#Liberdade de Voar - Grupo 240
DESCRIPTION: &#8220;Há escolas que são gaiolas e há escolas que são asas. Escolas que são gaiolas existem para que os pássaros desaprendam a arte do voo. Pássaros engaiolados são pássaros sob controle. Engaiolados\,  o seu dono pode levá-los para onde quiser. Pássaros engaiolados sempre têm um dono. Deixaram de ser pássaros.[..]
URL:https://hbg.pt/Eventos/liberdade-de-voar/
END:VEVENT
END:VCALENDAR