BEGIN:VCALENDAR
VERSION:2.0
PRODID:-//eventon.com NONSGML v1.0//EN
BEGIN:VEVENT
UID:69e5f65b21908
DTSTAMP:20260420T104811
DTSTART:20220530T110000Z
DTEND:20220601T105900Z
TZID:Pacific/Midway
LOCATION:Hall do Polivalente 
SUMMARY:Palestra no Planetário e Observação Diurna.
DESCRIPTION: A vinda do planetário à escola inclui a vinda de 4 monitores da Associação de Astronomia da Madeira que irão dinamizar a exploração do Stellarium e analisar temas de Astronomia.\,  seguido de visionamento de vídeos do sistema solar e a exploração espacial ao nosso satélite natural e previsão das missões[..]
URL:https://hbg.pt/Eventos/palestra-no-planetario-e-observacao-diurna/
END:VEVENT
END:VCALENDAR