BEGIN:VCALENDAR
VERSION:2.0
PRODID:-//eventon.com NONSGML v1.0//EN
BEGIN:VEVENT
UID:69e609455837f
DTSTAMP:20260420T120853
DTSTART:20220519T223000Z
DTEND:20220519T221500Z
TZID:Pacific/Midway
LOCATION:Instalações Desportivas HBG 
SUMMARY:CORRENTE DO OCEANO - DIA ESCOLA AZUL 2022
DESCRIPTION: Em 2022 vamos celebrar o Dia Escola Azul com uma Corrente do Oceano! No dia 19 de maio contamos com toda a comunidade escolar\,  para um dia de celebração onde vamos dar as mãos e construir\,  em conjunto\,  um cordão humano pelo Oceano.&nbsp; Estamos a contar convosco\,  pelas 11h 30[..]
URL:https://hbg.pt/Eventos/corrente-do-oceano-dia-escola-azul-2022/
END:VEVENT
END:VCALENDAR