BEGIN:VCALENDAR
VERSION:2.0
PRODID:-//eventon.com NONSGML v1.0//EN
BEGIN:VEVENT
UID:69e609d0ebdf3
DTSTAMP:20260420T121112
DTSTART:20220518T010000Z
DTEND:20220518T014500Z
TZID:Pacific/Midway
LOCATION:
SUMMARY:Ação de Sensibilização - Boas práticas para estar na NET "sem problemas"
DESCRIPTION: 
URL:https://hbg.pt/Eventos/acao-de-sensibilizacao-boas-praticas-para-estar-na-net-sem-problemas/
END:VEVENT
END:VCALENDAR