BEGIN:VCALENDAR
VERSION:2.0
PRODID:-//eventon.com NONSGML v1.0//EN
BEGIN:VEVENT
UID:69e608b584e32
DTSTAMP:20260420T120629
DTSTART:20220516T110000Z
DTEND:20220521T110000Z
TZID:Pacific/Midway
LOCATION:
SUMMARY:Semana da Diversidade Cultural e Inclusão
DESCRIPTION: No âmbito das comemorações do Dia Mundial da Diversidade Cultural para o Diálogo e o Desenvolvimento – 21 de maio\,  a EMAEI assinala esta data com quatro sessões de cinema\,  no auditório da nossa escola\,  para os alunos dos 2.º e 3.º Ciclos e uma exposição dos trabalhos realizados pelos[..]
URL:https://hbg.pt/Eventos/semana-da-diversidade-cultural-e-inclusao/
END:VEVENT
END:VCALENDAR