BEGIN:VCALENDAR
VERSION:2.0
PRODID:-//eventon.com NONSGML v1.0//EN
BEGIN:VEVENT
UID:69e5f6055c94a
DTSTAMP:20260420T104645
DTSTART:20220523T110000Z
DTEND:20220528T105900Z
TZID:Pacific/Midway
LOCATION:Escola Básica Dr. Horácio Bento de Gouveia 
SUMMARY:Semana da Geografia
DESCRIPTION: No âmbito da iniciativa do Grupo de Geografia\,  decorrerá entre os dias 23 a 27 de maio a Semana da Geografia. Será uma oportunidade para divulgar o papel e a importância crescente da disciplina de Geografia enquanto ciência que estuda as inter-relações existentes no trinómio: Território\,  Natureza e Sociedade.
URL:https://hbg.pt/Eventos/semana-da-geografia/
END:VEVENT
END:VCALENDAR