BEGIN:VCALENDAR
VERSION:2.0
PRODID:-//eventon.com NONSGML v1.0//EN
BEGIN:VEVENT
UID:69e5e2acb6f76
DTSTAMP:20260420T092412
DTSTART:20220601T201500Z
DTEND:20220602T054500Z
TZID:Pacific/Midway
LOCATION:Pavilhão Núcleo Desportivo Oeste
SUMMARY:Projeto “Eu sei proteger”
DESCRIPTION: Cultura de segurança nas escolas através da realidade virtual O Projeto Educação para a Segurança e Prevenção de Riscos\,  em colaboração com o grupo disciplinar de Educação Física\,  organizará uma atividade de realidade virtual\,  implementado o projeto “Eu Sei Proteger” do Serviço Regional de Proteção Civil da Madeira\,  nos dias[..]
URL:https://hbg.pt/Eventos/projeto-eu-sei-proteger/var/ri-1.l-L1
END:VEVENT
END:VCALENDAR