BEGIN:VCALENDAR
VERSION:2.0
PRODID:-//eventon.com NONSGML v1.0//EN
BEGIN:VEVENT
UID:69e6098ae7391
DTSTAMP:20260420T121002
DTSTART:20220525T200700Z
DTEND:20220701T100000Z
TZID:Pacific/Midway
LOCATION:Online 
SUMMARY:Votação Online do VIII Concurso de Talentos HBG
DESCRIPTION: Está a decorrer a votação Online\,  do VIII Concurso de Talentos HBG. Vote aqui\,  neste link.
URL:https://hbg.pt/Eventos/votacao-online-do-viii-concurso-de-talentos-hbg/
END:VEVENT
END:VCALENDAR